BEGIN:VCALENDAR
VERSION:2.0
PRODID:icalendar-ruby
CALSCALE:GREGORIAN
BEGIN:VEVENT
DTSTAMP:20260425T150026Z
UID:b7d96843-3345-48a9-8057-615a245b5efc
DTSTART;TZID=Pacific/Auckland:20260427T130000
DTEND;TZID=Pacific/Auckland:20260427T133000
DESCRIPTION:Property ID# 606897
SUMMARY:Openhome for 55 Elizabeth Avenue
END:VEVENT
END:VCALENDAR
