BEGIN:VCALENDAR
VERSION:2.0
PRODID:icalendar-ruby
CALSCALE:GREGORIAN
BEGIN:VEVENT
DTSTAMP:20260425T145350Z
UID:7453eb4b-638a-4256-b1be-06a1be5fb8d8
DTSTART;TZID=Pacific/Auckland:20260427T130000
DTEND;TZID=Pacific/Auckland:20260427T133000
DESCRIPTION:Property ID# 607009
SUMMARY:Openhome for 1648 Te Rahu Road
END:VEVENT
END:VCALENDAR
