BEGIN:VCALENDAR
VERSION:2.0
PRODID:icalendar-ruby
CALSCALE:GREGORIAN
BEGIN:VEVENT
DTSTAMP:20260425T183702Z
UID:8778c790-3d36-4676-8766-d80150b16810
DTSTART;TZID=Pacific/Auckland:20260427T140000
DTEND;TZID=Pacific/Auckland:20260427T143000
DESCRIPTION:Property ID# 603534
SUMMARY:Openhome for 105 Heaphy Street
END:VEVENT
END:VCALENDAR
