BEGIN:VCALENDAR
VERSION:2.0
PRODID:icalendar-ruby
CALSCALE:GREGORIAN
BEGIN:VEVENT
DTSTAMP:20260425T183908Z
UID:026e480e-9569-4c61-9905-dad069689cfd
DTSTART;VALUE=DATE:20251001
DESCRIPTION:Property ID# 596484\, Time: 1:00PM
SUMMARY:Auction for 
END:VEVENT
END:VCALENDAR
