BEGIN:VCALENDAR
VERSION:2.0
PRODID:icalendar-ruby
CALSCALE:GREGORIAN
BEGIN:VEVENT
DTSTAMP:20260420T212346Z
UID:aa5a0e82-bfbf-46a9-a853-5fb087ce5464
DTSTART;VALUE=DATE:20250311
DESCRIPTION:Property ID# 588574\, Locatoin: 603 Great South Road\, Manukau 
 unless sold prior\, Time: 11:00AM
SUMMARY:Auction for 
END:VEVENT
END:VCALENDAR
