BEGIN:VCALENDAR
VERSION:2.0
PRODID:icalendar-ruby
CALSCALE:GREGORIAN
BEGIN:VEVENT
DTSTAMP:20260420T040943Z
UID:b49b1ed8-2e0f-437b-b835-dee0bd97782d
DTSTART;VALUE=DATE:20220629
DESCRIPTION:Property ID# 537822\, Time: 3:00PM
SUMMARY:Auction for 
END:VEVENT
END:VCALENDAR
