BEGIN:VCALENDAR
VERSION:2.0
PRODID:icalendar-ruby
CALSCALE:GREGORIAN
BEGIN:VEVENT
DTSTAMP:20260424T090902Z
UID:705e35be-ca1f-432f-a8b0-912238b423a6
DTSTART;VALUE=DATE:20210811
DESCRIPTION:Property ID# 514338\, Locatoin: Lodge Auction Rooms\, Time: 12:
 30PM
SUMMARY:Auction for 
END:VEVENT
END:VCALENDAR
