BEGIN:VCALENDAR
VERSION:2.0
PRODID:icalendar-ruby
CALSCALE:GREGORIAN
BEGIN:VEVENT
DTSTAMP:20260420T085702Z
UID:a9609150-ed35-40c2-84ed-aa24b9ef1cdb
DTSTART;VALUE=DATE:20210330
DESCRIPTION:Property ID# 504873\, Time: 4:00PM
SUMMARY:Auction for 
END:VEVENT
END:VCALENDAR
