BEGIN:VCALENDAR
VERSION:2.0
PRODID:icalendar-ruby
CALSCALE:GREGORIAN
BEGIN:VEVENT
DTSTAMP:20260424T105224Z
UID:42b233d6-96a6-45f4-9c70-8831c07ecdc4
DTSTART;VALUE=DATE:20210317
DESCRIPTION:Property ID# 502877\, Locatoin: Lodge Auction Rooms 935 Victori
 a Street\, Time: 12:30PM
SUMMARY:Auction for 
END:VEVENT
END:VCALENDAR
