BEGIN:VCALENDAR
VERSION:2.0
PRODID:icalendar-ruby
CALSCALE:GREGORIAN
BEGIN:VEVENT
DTSTAMP:20191223T093230Z
UID:8a777913-c668-4004-a534-d10c59640519
DTSTART;VALUE=DATE:20191009
DESCRIPTION:Property ID# 461953\, Locatoin: Lodge Auction Rooms\, Time: 12:
 30PM
SUMMARY:Auction for 
END:VEVENT
END:VCALENDAR
